BEGIN:VCALENDAR
VERSION:2.0
PRODID:-// eRoom plugin //NONSGML v1.0//EN
CALSCALE:GREGORIAN
BEGIN:VEVENT
UID:eRoom-1776628259
SUMMARY:ZOOM_ADMIN meeting in eRoom erstellt (ok!!)
LOCATION:
DESCRIPTIONtest
URL;VALUE=URI:https://wordpress.org/plugins/eroom-zoom-meetings-webinar/
DTSTART:20241009T153000Z
DTEND:20241009T161000Z
DTSTAMP:20260419T195059Z
BEGIN:VALARM
ACTION:DISPLAY
RIGGER;RELATED=START:-PT00H15M00S
BEGIN:VALARM
END:VEVENT
END:VCALENDAR