BEGIN:VCALENDAR
VERSION:2.0
PRODID:-// eRoom plugin //NONSGML v1.0//EN
CALSCALE:GREGORIAN
BEGIN:VEVENT
UID:eRoom-1776622229
SUMMARY:Zoom Lesson !!! (ok)
LOCATION:
DESCRIPTION<p>WP Benutzer muss in den benutzereinstlelungen das zoom konto ausgew&auml;hlt sein damit das funtkioniert!!</p>
URL;VALUE=URI:https://wordpress.org/plugins/eroom-zoom-meetings-webinar/
DTSTART:20241008T072600Z
DTEND:20241008T080600Z
DTSTAMP:20260419T181029Z
BEGIN:VALARM
ACTION:DISPLAY
RIGGER;RELATED=START:-PT00H15M00S
BEGIN:VALARM
END:VEVENT
END:VCALENDAR