BEGIN:VCALENDAR
VERSION:2.0
PRODID:-// eRoom plugin //NONSGML v1.0//EN
CALSCALE:GREGORIAN
BEGIN:VEVENT
UID:eRoom-1776628260
SUMMARY:nora-admin meeting in zoom.us erstellt
LOCATION:
DESCRIPTION
URL;VALUE=URI:https://wordpress.org/plugins/eroom-zoom-meetings-webinar/
DTSTART:20241009T160000Z
DTEND:20241009T170000Z
DTSTAMP:20260419T195100Z
BEGIN:VALARM
ACTION:DISPLAY
RIGGER;RELATED=START:-PT00H15M00S
BEGIN:VALARM
END:VEVENT
END:VCALENDAR