BEGIN:VCALENDAR
VERSION:2.0
PRODID:-// eRoom plugin //NONSGML v1.0//EN
CALSCALE:GREGORIAN
BEGIN:VEVENT
UID:eRoom-1776633911
SUMMARY:eRoom &#8211; Zoom Meeting 1
LOCATION:
DESCRIPTION-> Allowed participants to join anytime ON -> Host video ON -> Participants video ON https://docs.stylemixthemes.com/masterstudy-theme-documentation/masterstudy-lms-pro-addons/masterstudy-theme-manual-zoom-video-conferencing
URL;VALUE=URI:https://wordpress.org/plugins/eroom-zoom-meetings-webinar/
DTSTART:20241004T121500Z
DTEND:20241004T131500Z
DTSTAMP:20260419T212511Z
BEGIN:VALARM
ACTION:DISPLAY
RIGGER;RELATED=START:-PT00H15M00S
BEGIN:VALARM
END:VEVENT
END:VCALENDAR